BEGIN:VCALENDAR
VERSION:2.0
PRODID:-//Midwest Travel Network - ECPv6.15.20//NONSGML v1.0//EN
CALSCALE:GREGORIAN
METHOD:PUBLISH
X-ORIGINAL-URL:https://midwesttravelnetwork.com
X-WR-CALDESC:Events for Midwest Travel Network
REFRESH-INTERVAL;VALUE=DURATION:PT1H
X-Robots-Tag:noindex
X-PUBLISHED-TTL:PT1H
BEGIN:VTIMEZONE
TZID:America/Chicago
BEGIN:DAYLIGHT
TZOFFSETFROM:-0600
TZOFFSETTO:-0500
TZNAME:CDT
DTSTART:20200308T080000
END:DAYLIGHT
BEGIN:STANDARD
TZOFFSETFROM:-0500
TZOFFSETTO:-0600
TZNAME:CST
DTSTART:20201101T070000
END:STANDARD
BEGIN:DAYLIGHT
TZOFFSETFROM:-0600
TZOFFSETTO:-0500
TZNAME:CDT
DTSTART:20210314T080000
END:DAYLIGHT
BEGIN:STANDARD
TZOFFSETFROM:-0500
TZOFFSETTO:-0600
TZNAME:CST
DTSTART:20211107T070000
END:STANDARD
BEGIN:DAYLIGHT
TZOFFSETFROM:-0600
TZOFFSETTO:-0500
TZNAME:CDT
DTSTART:20220313T080000
END:DAYLIGHT
BEGIN:STANDARD
TZOFFSETFROM:-0500
TZOFFSETTO:-0600
TZNAME:CST
DTSTART:20221106T070000
END:STANDARD
END:VTIMEZONE
BEGIN:VEVENT
DTSTART;TZID=America/Chicago:20210519T110000
DTEND;TZID=America/Chicago:20210519T120000
DTSTAMP:20260419T120036
CREATED:20210118T235709Z
LAST-MODIFIED:20210320T220726Z
UID:7698-1621422000-1621425600@midwesttravelnetwork.com
SUMMARY:Twitter Chat: #MWTravelChat
DESCRIPTION:Sponsor: Visit Mason City \nLocated in North Central Iowa\, Mason City is home to the Park Inn Hotel\, the last known hotel in the world designed by Frank Lloyd Wright. The art comes to life through the River City Sculptures on Parade\, the murals around town and the incredible architecture that can be found all around town.
URL:https://midwesttravelnetwork.com/event/twitter-chat-mwtravelchat-9/
CATEGORIES:Twitter Chat
ATTACH;FMTTYPE=image/jpeg:https://midwesttravelnetwork.com/wp-content/uploads/2021/01/2020-12-02-13.40.55-1.jpg
END:VEVENT
END:VCALENDAR