BEGIN:VCALENDAR
VERSION:2.0
PRODID:-//Midwest Travel Network - ECPv6.15.20//NONSGML v1.0//EN
CALSCALE:GREGORIAN
METHOD:PUBLISH
X-WR-CALNAME:Midwest Travel Network
X-ORIGINAL-URL:https://midwesttravelnetwork.com
X-WR-CALDESC:Events for Midwest Travel Network
REFRESH-INTERVAL;VALUE=DURATION:PT1H
X-Robots-Tag:noindex
X-PUBLISHED-TTL:PT1H
BEGIN:VTIMEZONE
TZID:America/Indiana/Indianapolis
BEGIN:DAYLIGHT
TZOFFSETFROM:-0500
TZOFFSETTO:-0400
TZNAME:EDT
DTSTART:20180311T070000
END:DAYLIGHT
BEGIN:STANDARD
TZOFFSETFROM:-0400
TZOFFSETTO:-0500
TZNAME:EST
DTSTART:20181104T060000
END:STANDARD
BEGIN:DAYLIGHT
TZOFFSETFROM:-0500
TZOFFSETTO:-0400
TZNAME:EDT
DTSTART:20190310T070000
END:DAYLIGHT
BEGIN:STANDARD
TZOFFSETFROM:-0400
TZOFFSETTO:-0500
TZNAME:EST
DTSTART:20191103T060000
END:STANDARD
BEGIN:DAYLIGHT
TZOFFSETFROM:-0500
TZOFFSETTO:-0400
TZNAME:EDT
DTSTART:20200308T070000
END:DAYLIGHT
BEGIN:STANDARD
TZOFFSETFROM:-0400
TZOFFSETTO:-0500
TZNAME:EST
DTSTART:20201101T060000
END:STANDARD
END:VTIMEZONE
BEGIN:VEVENT
DTSTART;TZID=America/Indiana/Indianapolis:20190724T110000
DTEND;TZID=America/Indiana/Indianapolis:20190724T120000
DTSTAMP:20260420T023313
CREATED:20190701T174942Z
LAST-MODIFIED:20190705T013555Z
UID:3258-1563966000-1563969600@midwesttravelnetwork.com
SUMMARY:#MWTravel Chat - Visit Olathe
DESCRIPTION:We’re talking BBQ\, nature adventures\, public art and more during the next #MWTravelchat! Join us on Wed. July 24h at 11 am CT/12 pm ET to learn all about our next destination that is the Crossroads to Adventure – Visit Olathe (KS). Follow along and join the conversation using #MWTravelchat.
URL:https://midwesttravelnetwork.com/event/mwtravel-chat-visit-olathe/
LOCATION:Twitter
ATTACH;FMTTYPE=image/png:https://midwesttravelnetwork.com/wp-content/uploads/2019/07/Visit-Olathe-MWTravelChat.png
END:VEVENT
BEGIN:VEVENT
DTSTART;TZID=America/Indiana/Indianapolis:20190717T110000
DTEND;TZID=America/Indiana/Indianapolis:20190717T140000
DTSTAMP:20260420T023313
CREATED:20190701T174150Z
LAST-MODIFIED:20190709T132710Z
UID:3254-1563361200-1563372000@midwesttravelnetwork.com
SUMMARY:Allamakee County - Instagram Walk
DESCRIPTION:Join the Midwest Travel Network and Allamakee County IA for lunch on July 17th. We will learn how to partner together and how to stand out through online marketing in the busy 2019 season of tourism. An Instagram walk will round out our time together\, as we learn what hidden gems that Allamakee County has to offer. \nBuy Your Ticket Now
URL:https://midwesttravelnetwork.com/event/allamakee-county-instagram-walk/
LOCATION:Milty’s\, 200 Main St.\, Lansing\, IA\, 52151\, United States
ATTACH;FMTTYPE=image/png:https://midwesttravelnetwork.com/wp-content/uploads/2019/07/65789783_2167978886826895_8212284306710593536_n.png
END:VEVENT
END:VCALENDAR